BEGIN:VCALENDAR
PRODID:-//162.241.27.65//NONSGML iCalcreator 2.6//
VERSION:2.0
BEGIN:VEVENT
UID:20260423T203230CEST-004193E2fm@162.241.27.65
DTSTAMP:20260423T183230Z
CATEGORIES:Events
DESCRIPTION:
DTSTART:20170702T080000
DTEND:20190831T110000
LOCATION:Flatiron 12 W 19th St New York\, NY 10011
SUMMARY:Independence Day Parade
END:VEVENT
END:VCALENDAR
