BEGIN:VCALENDAR
PRODID:-//162.241.27.65//NONSGML iCalcreator 2.6//
VERSION:2.0
BEGIN:VEVENT
UID:20260423T203231CEST-23999vP6ms@162.241.27.65
DTSTAMP:20260423T183231Z
CATEGORIES:Events
DESCRIPTION:
DTSTART:20170716T100000
DTEND:20190828T100000
LOCATION:SoHo 126 Crosby St New York\, NY 10012
SUMMARY:Taiko Dojo
END:VEVENT
END:VCALENDAR
