BEGIN:VCALENDAR
PRODID:-//162.241.27.65//NONSGML iCalcreator 2.6//
VERSION:2.0
BEGIN:VEVENT
UID:20260423T203232CEST-3209mUPcJb@162.241.27.65
DTSTAMP:20260423T183232Z
CATEGORIES:Events
DESCRIPTION:
DTSTART:20170702T060000
DTEND:20190828T110000
LOCATION:1212 Vine Street Philadelphia\, PA 19107
SUMMARY:FOSTER THE PEOPLE (DJ Set)
END:VEVENT
END:VCALENDAR
