BEGIN:VCALENDAR
PRODID:-//162.241.27.65//NONSGML iCalcreator 2.6//
VERSION:2.0
BEGIN:VEVENT
UID:20260423T190214CEST-5038rLSFXZ@162.241.27.65
DTSTAMP:20260423T170214Z
CATEGORIES:Events
DESCRIPTION:
DTSTART:20170724T100000
DTEND:20190927T110000
LOCATION:2251 Chestnut St San Francisco\, CA 94123
SUMMARY:Runway to Happiness &#8211\; A Charity Fashion Show To Benefit Proj
 ect Happiness
END:VEVENT
END:VCALENDAR
